BEGIN:VCALENDAR
VERSION:2.0
PRODID:1ª Sessão Pública Ordinária da Assembleia de Freguesia
X-WR-CALNAME:1ª Sessão Pública Ordinária da Assembleia de Freguesia
X-WR-TIMEZONE:Europe/Lisbon
X-PUBLISHED-TTL:P1W
BEGIN:VTIMEZONE
TZID:Europe/Lisbon
X-LIC-LOCATION:Europe/Lisbon
END:VTIMEZONE
BEGIN:VEVENT
UID:69e62acc99e9e
DTSTART;VALUE=DATE:20260428
SEQUENCE:0
TRANSP:OPAQUE
DTEND;VALUE=DATE:20260429
SUMMARY:1ª Sessão Pública Ordinária da Assembleia de Freguesia
CLASS:PUBLIC
DESCRIPTION:- - - ANA RAQUEL COUTINHO DIAS\, Presidente da Assembleia de Fr
 eguesia de Valongo do Vouga: - - - - - - - - - - - - ---- - TORNA PÚBLICO
 \, de harmonia com a competência que lhe confere a alínea b)\, nº1\, do
  artº14.º da Lei nº 75/2013\, de 12 de setembro de 2013\, que se realiz
 ará no dia 28 de abril de 2026\, pelas 21:00 horas\, na sede da Junta de 
 Freguesia\, sita na Póvoa do Espírito Santo\, a 1ª Sessão Pública Ord
 inária da Assembleia de Freguesia\, com a seguinte ordem de trabalhos: - 
 - -  - - --- - 1 – Análise e votação de Ata: - - - 1.1 - Leitura do
  expediente\;  - - - 1.2 - Ata da 4ª Sessão Ordinária\, de 11 de dezem
 bro de 2025. -- - 1.3 - Ata da 1ª Sessão Extraordinária\, de 2 de mar
 ço de 2026.  - - - 2 – Período antes da ordem do dia: - - - 2.1 - In
 tervenção dos Membros da Assembleia\; - - - 2.2 - Intervenção do Púb
 lico. -- - 3 – Período da ordem do dia: -- - 3.1 - Apresentação\, d
 iscussão e votação dos documentos de Prestação de Contas - Conta de G
 erência do Ano de 2025\; - -- 3.2 - Apresentação do Inventário dos be
 ns da Junta de Freguesia\, ao abrigo do nº 2 do artigo nº 11 da Lei 75/2
 013 de 12 de Setembro\;  - - 3.3 - Apresentação da situação  finance
 ira da autarquia e informação escrita do presidente da Junta de Freguesi
 a\, ao abrigo da alínea e)\, do nº 2 do art.º 9º da Lei nº 75/2013 de
  12 de setembro\; -- - 3.4 - Apresentação\, discussão e votação da a
 tribuição das distinções no âmbito do 17º aniversário de elevação
  a Vila de Valongo do Vouga.  - - - Para constar e produzir os devidos ef
 eitos\, o presente edital será a afixado no átrio do Edifício Sede da J
 unta de Freguesia e nos demais locais tidos por convenientes. Será ainda 
 publicitado no sítio www.jf-valongodovouga.pt. 
X-MICROSOFT-CDO-ALLDAYEVENT:TRUE
DTSTAMP:20260420T133156Z
END:VEVENT
END:VCALENDAR